BEGIN:VCALENDAR
VERSION:2.0
PRODID:-//RIAAO - ECPv6.3.3.1//NONSGML v1.0//EN
CALSCALE:GREGORIAN
METHOD:PUBLISH
X-WR-CALNAME:RIAAO
X-ORIGINAL-URL:https://riaao.org
X-WR-CALDESC:Events for RIAAO
REFRESH-INTERVAL;VALUE=DURATION:PT1H
X-Robots-Tag:noindex
X-PUBLISHED-TTL:PT1H
BEGIN:VTIMEZONE
TZID:America/New_York
BEGIN:DAYLIGHT
TZOFFSETFROM:-0500
TZOFFSETTO:-0400
TZNAME:EDT
DTSTART:20230312T070000
END:DAYLIGHT
BEGIN:STANDARD
TZOFFSETFROM:-0400
TZOFFSETTO:-0500
TZNAME:EST
DTSTART:20231105T060000
END:STANDARD
END:VTIMEZONE
BEGIN:VEVENT
DTSTART;TZID=America/New_York:20230301T080000
DTEND;TZID=America/New_York:20230302T160000
DTSTAMP:20260423T185425
CREATED:20230120T174630Z
LAST-MODIFIED:20230120T175304Z
UID:2391-1677657600-1677772800@riaao.org
SUMMARY:IAAO Workshop 155 – Depreciation
DESCRIPTION:The Mass Chapter Education Committee has the following workshop scheduled:\nIAAO Workshop 155 – Depreciation \nMarch 1-2\, 2023 \nThis is an In-person event at Babson College in Wellesley \nLink to Application. \n 
URL:https://riaao.org/event/iaao-workshop-155-depreciation/
LOCATION:Babson College Wellesley\, 231 Forest Street\, Babson Park\, MA\, 02457\, United States
END:VEVENT
END:VCALENDAR