BEGIN:VCALENDAR
VERSION:2.0
PRODID:-//RIAAO - ECPv6.3.3.1//NONSGML v1.0//EN
CALSCALE:GREGORIAN
METHOD:PUBLISH
X-ORIGINAL-URL:https://riaao.org
X-WR-CALDESC:Events for RIAAO
REFRESH-INTERVAL;VALUE=DURATION:PT1H
X-Robots-Tag:noindex
X-PUBLISHED-TTL:PT1H
BEGIN:VTIMEZONE
TZID:America/New_York
BEGIN:DAYLIGHT
TZOFFSETFROM:-0500
TZOFFSETTO:-0400
TZNAME:EDT
DTSTART:20230312T070000
END:DAYLIGHT
BEGIN:STANDARD
TZOFFSETFROM:-0400
TZOFFSETTO:-0500
TZNAME:EST
DTSTART:20231105T060000
END:STANDARD
END:VTIMEZONE
BEGIN:VEVENT
DTSTART;TZID=America/New_York:20230303T080000
DTEND;TZID=America/New_York:20230303T120000
DTSTAMP:20260423T190507
CREATED:20230221T185003Z
LAST-MODIFIED:20230221T190549Z
UID:2455-1677830400-1677844800@riaao.org
SUMMARY:RIAAO Meeting
DESCRIPTION:RIAAO Quarterly Meeting\nMiddletown Town Hall – Council Chambers\nEducational Topic:\n“The Case for a Statewide Tax Exemption for Tangible Property”\nRhode Island Public Expenditure Council \nLINK TO NOTICE
URL:https://riaao.org/event/riaao-meeting-4/
LOCATION:Middletown Town Hall\, 350 West Main Road\, Middletown\, RI\, 02842\, United States
ORGANIZER;CN="RIAAO Education":MAILTO:sfrew@eastprovidenceri.gov
END:VEVENT
END:VCALENDAR