BEGIN:VCALENDAR
VERSION:2.0
PRODID:-//RIAAO - ECPv6.3.3.1//NONSGML v1.0//EN
CALSCALE:GREGORIAN
METHOD:PUBLISH
X-ORIGINAL-URL:https://riaao.org
X-WR-CALDESC:Events for RIAAO
REFRESH-INTERVAL;VALUE=DURATION:PT1H
X-Robots-Tag:noindex
X-PUBLISHED-TTL:PT1H
BEGIN:VTIMEZONE
TZID:America/New_York
BEGIN:DAYLIGHT
TZOFFSETFROM:-0500
TZOFFSETTO:-0400
TZNAME:EDT
DTSTART:20240310T070000
END:DAYLIGHT
BEGIN:STANDARD
TZOFFSETFROM:-0400
TZOFFSETTO:-0500
TZNAME:EST
DTSTART:20241103T060000
END:STANDARD
END:VTIMEZONE
BEGIN:VEVENT
DTSTART;VALUE=DATE:20240308
DTEND;VALUE=DATE:20240309
DTSTAMP:20260423T002510
CREATED:20231215T140825Z
LAST-MODIFIED:20240216T145950Z
UID:2926-1709856000-1709942399@riaao.org
SUMMARY:RIAAO quarterly meeting
DESCRIPTION:Mike DiBiase from RIPEC\n“Rhode Island Property Tax Trends & Current Issues”\nLink to Meeting Notice
URL:https://riaao.org/event/riaao-quarterly-meeting-details-tbd/
LOCATION:RI
ATTACH;FMTTYPE=image/png:https://riaao.org/wp-content/uploads/2023/12/riaao.png
END:VEVENT
END:VCALENDAR