BEGIN:VCALENDAR
VERSION:2.0
PRODID:-//RIAAO - ECPv6.3.3.1//NONSGML v1.0//EN
CALSCALE:GREGORIAN
METHOD:PUBLISH
X-ORIGINAL-URL:https://riaao.org
X-WR-CALDESC:Events for RIAAO
REFRESH-INTERVAL;VALUE=DURATION:PT1H
X-Robots-Tag:noindex
X-PUBLISHED-TTL:PT1H
BEGIN:VTIMEZONE
TZID:America/New_York
BEGIN:DAYLIGHT
TZOFFSETFROM:-0500
TZOFFSETTO:-0400
TZNAME:EDT
DTSTART:20240310T070000
END:DAYLIGHT
BEGIN:STANDARD
TZOFFSETFROM:-0400
TZOFFSETTO:-0500
TZNAME:EST
DTSTART:20241103T060000
END:STANDARD
END:VTIMEZONE
BEGIN:VEVENT
DTSTART;TZID=America/New_York:20241206T083000
DTEND;TZID=America/New_York:20241206T140000
DTSTAMP:20260422T100434
CREATED:20231215T141001Z
LAST-MODIFIED:20241106T195531Z
UID:2933-1733473800-1733493600@riaao.org
SUMMARY:RIAAO December meeting
DESCRIPTION:The RIAAO December Meeting will be held at the Valley Country Club in Warwick. \nThe Charity for 2024 is The Rhode Island Food Bank\, please bring a check if you would like to donate. \nThe RIAAO will have David Bodah from the League of Cities & Towns presenting on the 2025 legislative session. \nWe will also have a presentation on AI in CF! Results of a Pilot Program in Central Falls by C3AI. \nProposals on the 2025 meeting schedule and Education options will be presented to the body. \nLink to registration form.  \nPlease be sure to RSVP by November 27\, 2024.
URL:https://riaao.org/event/riaao-quarterly-meeting-details-tbd-4/
LOCATION:Valley Country Club\, 251 New London Ave\, Warwick\, RI\, 02886\, United States
ATTACH;FMTTYPE=image/png:https://riaao.org/wp-content/uploads/2024/03/riaao4.png
ORGANIZER;CN="RIAAO":MAILTO:dcarey@westerlyri.gov
END:VEVENT
END:VCALENDAR