BEGIN:VCALENDAR
VERSION:2.0
PRODID:-//RIAAO - ECPv6.3.3.1//NONSGML v1.0//EN
CALSCALE:GREGORIAN
METHOD:PUBLISH
X-ORIGINAL-URL:https://riaao.org
X-WR-CALDESC:Events for RIAAO
REFRESH-INTERVAL;VALUE=DURATION:PT1H
X-Robots-Tag:noindex
X-PUBLISHED-TTL:PT1H
BEGIN:VTIMEZONE
TZID:America/New_York
BEGIN:DAYLIGHT
TZOFFSETFROM:-0500
TZOFFSETTO:-0400
TZNAME:EDT
DTSTART:20250309T070000
END:DAYLIGHT
BEGIN:STANDARD
TZOFFSETFROM:-0400
TZOFFSETTO:-0500
TZNAME:EST
DTSTART:20251102T060000
END:STANDARD
END:VTIMEZONE
BEGIN:VEVENT
DTSTART;TZID=America/New_York:20250606T090000
DTEND;TZID=America/New_York:20250606T140000
DTSTAMP:20260422T004831
CREATED:20250509T165840Z
LAST-MODIFIED:20250509T172302Z
UID:3930-1749200400-1749218400@riaao.org
SUMMARY:2025 Summer Meeting
DESCRIPTION:Join us for the 2025 Summer RIAAO Meeting at Chelo’s Waterfront! \nLink to registration form.
URL:https://riaao.org/event/2025-summer-meeting/
LOCATION:Chelo’s Waterfront Bar & Grille\, 1 Masthead Drive\, Warwick\, RI\, 02886\, United States
ATTACH;FMTTYPE=image/png:https://riaao.org/wp-content/uploads/2024/03/riaao4.png
ORGANIZER;CN="RIAAO":MAILTO:dcarey@westerlyri.gov
END:VEVENT
END:VCALENDAR