BEGIN:VCALENDAR
VERSION:2.0
PRODID:-//RIAAO - ECPv6.3.3.1//NONSGML v1.0//EN
CALSCALE:GREGORIAN
METHOD:PUBLISH
X-WR-CALNAME:RIAAO
X-ORIGINAL-URL:https://riaao.org
X-WR-CALDESC:Events for RIAAO
REFRESH-INTERVAL;VALUE=DURATION:PT1H
X-Robots-Tag:noindex
X-PUBLISHED-TTL:PT1H
BEGIN:VTIMEZONE
TZID:America/New_York
BEGIN:DAYLIGHT
TZOFFSETFROM:-0500
TZOFFSETTO:-0400
TZNAME:EDT
DTSTART:20220313T070000
END:DAYLIGHT
BEGIN:STANDARD
TZOFFSETFROM:-0400
TZOFFSETTO:-0500
TZNAME:EST
DTSTART:20221106T060000
END:STANDARD
END:VTIMEZONE
BEGIN:VEVENT
DTSTART;TZID=America/New_York:20221027T080000
DTEND;TZID=America/New_York:20221027T120000
DTSTAMP:20260422T175010
CREATED:20220907T154908Z
LAST-MODIFIED:20220922T152152Z
UID:2059-1666857600-1666872000@riaao.org
SUMMARY:RIAAO Meeting
DESCRIPTION:Get ready for the upcoming RIAAO meeting!\nThursday\, October 27\, 2022 at the Valley Country Club.\nBe sure to RSVP to Matt Helfand if you plan on attending.\nLink to Meeting Notice
URL:https://riaao.org/event/riaao-meeting-2/
LOCATION:Valley Country Club\, 251 New London Ave\, Warwick\, RI\, 02886\, United States
ORGANIZER;CN="RIAAO Education":MAILTO:sfrew@eastprovidenceri.gov
END:VEVENT
BEGIN:VEVENT
DTSTART;TZID=America/New_York:20220819T090000
DTEND;TZID=America/New_York:20220819T130000
DTSTAMP:20260422T175010
CREATED:20220707T133127Z
LAST-MODIFIED:20220722T142642Z
UID:1863-1660899600-1660914000@riaao.org
SUMMARY:RIAAO Summer Meeting
DESCRIPTION:Save the date for the upcoming RIAAO Summer Meeting!\nSummer Meeting Notice 8-19-22
URL:https://riaao.org/event/riaao-summer-meeting/
LOCATION:Chelo’s Waterfront Bar & Grille\, 1 Masthead Drive\, Warwick\, RI\, 02886\, United States
ORGANIZER;CN="RIAAO Education":MAILTO:sfrew@eastprovidenceri.gov
END:VEVENT
BEGIN:VEVENT
DTSTART;TZID=America/New_York:20220401T043000
DTEND;TZID=America/New_York:20220401T090000
DTSTAMP:20260422T175010
CREATED:20220301T133058Z
LAST-MODIFIED:20220308T183528Z
UID:1644-1648787400-1648803600@riaao.org
SUMMARY:RIAAO MEETING
DESCRIPTION:RIAAO MEETING AGENDA (APRIL 1\,2022)
URL:https://riaao.org/event/riaao-meeting/
LOCATION:Valley Country Club\, 251 New London Ave\, Warwick\, RI\, 02886\, United States
CATEGORIES:Events
ORGANIZER;CN="RIAAO Education":MAILTO:sfrew@eastprovidenceri.gov
END:VEVENT
END:VCALENDAR