BEGIN:VCALENDAR
VERSION:2.0
PRODID:-//RIAAO - ECPv6.3.3.1//NONSGML v1.0//EN
CALSCALE:GREGORIAN
METHOD:PUBLISH
X-WR-CALNAME:RIAAO
X-ORIGINAL-URL:https://riaao.org
X-WR-CALDESC:Events for RIAAO
REFRESH-INTERVAL;VALUE=DURATION:PT1H
X-Robots-Tag:noindex
X-PUBLISHED-TTL:PT1H
BEGIN:VTIMEZONE
TZID:America/New_York
BEGIN:DAYLIGHT
TZOFFSETFROM:-0500
TZOFFSETTO:-0400
TZNAME:EDT
DTSTART:20230312T070000
END:DAYLIGHT
BEGIN:STANDARD
TZOFFSETFROM:-0400
TZOFFSETTO:-0500
TZNAME:EST
DTSTART:20231105T060000
END:STANDARD
END:VTIMEZONE
BEGIN:VEVENT
DTSTART;TZID=America/New_York:20231002T090000
DTEND;TZID=America/New_York:20231002T160000
DTSTAMP:20260423T065039
CREATED:20230825T123938Z
LAST-MODIFIED:20230825T123938Z
UID:2760-1696237200-1696262400@riaao.org
SUMMARY:Math Tutorial for IAAO course 101
DESCRIPTION:A math tutorial for IAAO Course 101 is being offered by the RIAAO.\nThe workshop will be held on October 2\, 2023 from 9-4 at the Crowne Plaza in Warwick.\nLink here for application and further details.
URL:https://riaao.org/event/math-tutorial-for-iaao-course-101/
LOCATION:Crowne Plaza\, 801 Greenwich Ave\, Warwick\, RI
ORGANIZER;CN="RIAAO Education":MAILTO:sfrew@eastprovidenceri.gov
END:VEVENT
BEGIN:VEVENT
DTSTART;TZID=America/New_York:20231016T090000
DTEND;TZID=America/New_York:20231024T170000
DTSTAMP:20260423T065039
CREATED:20230822T192021Z
LAST-MODIFIED:20230822T192433Z
UID:2752-1697446800-1698166800@riaao.org
SUMMARY:IAAO Course 101 Class
DESCRIPTION:The IAAO 101 Course is being offered by the RIAAO.\nClasses start on October 16th\, 2023 at the Warwick Municipal Annex (Sawtooth Building)\nLink here for application and further details.
URL:https://riaao.org/event/iaao-course-101-class/
LOCATION:Warwick Municipal Annex\, 65 Centerville Road\, Warwick\, RI\, 02886\, United States
ORGANIZER;CN="RIAAO Education":MAILTO:sfrew@eastprovidenceri.gov
END:VEVENT
END:VCALENDAR