BEGIN:VCALENDAR
VERSION:2.0
PRODID:-//RIAAO - ECPv6.3.3.1//NONSGML v1.0//EN
CALSCALE:GREGORIAN
METHOD:PUBLISH
X-ORIGINAL-URL:https://riaao.org
X-WR-CALDESC:Events for RIAAO
REFRESH-INTERVAL;VALUE=DURATION:PT1H
X-Robots-Tag:noindex
X-PUBLISHED-TTL:PT1H
BEGIN:VTIMEZONE
TZID:America/New_York
BEGIN:DAYLIGHT
TZOFFSETFROM:-0500
TZOFFSETTO:-0400
TZNAME:EDT
DTSTART:20240310T070000
END:DAYLIGHT
BEGIN:STANDARD
TZOFFSETFROM:-0400
TZOFFSETTO:-0500
TZNAME:EST
DTSTART:20241103T060000
END:STANDARD
END:VTIMEZONE
BEGIN:VEVENT
DTSTART;VALUE=DATE:20240920
DTEND;VALUE=DATE:20240921
DTSTAMP:20260422T130154
CREATED:20231215T140930Z
LAST-MODIFIED:20240905T130152Z
UID:2931-1726790400-1726876799@riaao.org
SUMMARY:RIAAO quarterly meeting
DESCRIPTION:RIAAO Quarterly Meeting at Valley Country Club in Warwick. \nThe RIAAO will have QDS and RIPEC representatives presenting. \nElections of executive board will be held. \nWe will also be presenting the Dennis Sheehan and Sylvia McInnis Awards. \nLink to registration form.  \nPlease be sure to RSVP by September 12\, 2024.
URL:https://riaao.org/event/riaao-quarterly-meeting-details-tbd-3/
LOCATION:Valley Country Club\, 251 New London Ave\, Warwick\, RI\, 02886\, United States
ATTACH;FMTTYPE=image/png:https://riaao.org/wp-content/uploads/2024/03/riaao4.png
ORGANIZER;CN="RIAAO":MAILTO:dcarey@westerlyri.gov
END:VEVENT
END:VCALENDAR