BEGIN:VCALENDAR
VERSION:2.0
PRODID:-//RIAAO - ECPv6.3.3.1//NONSGML v1.0//EN
CALSCALE:GREGORIAN
METHOD:PUBLISH
X-WR-CALNAME:RIAAO
X-ORIGINAL-URL:https://riaao.org
X-WR-CALDESC:Events for RIAAO
REFRESH-INTERVAL;VALUE=DURATION:PT1H
X-Robots-Tag:noindex
X-PUBLISHED-TTL:PT1H
BEGIN:VTIMEZONE
TZID:America/New_York
BEGIN:DAYLIGHT
TZOFFSETFROM:-0500
TZOFFSETTO:-0400
TZNAME:EDT
DTSTART:20250309T070000
END:DAYLIGHT
BEGIN:STANDARD
TZOFFSETFROM:-0400
TZOFFSETTO:-0500
TZNAME:EST
DTSTART:20251102T060000
END:STANDARD
END:VTIMEZONE
BEGIN:VEVENT
DTSTART;TZID=America/New_York:20250912T090000
DTEND;TZID=America/New_York:20250912T130000
DTSTAMP:20260421T185928
CREATED:20250905T142620Z
LAST-MODIFIED:20260302T153117Z
UID:4103-1757667600-1757682000@riaao.org
SUMMARY:RIAAO Annual Meeting
DESCRIPTION:The RIAAO is having our annual meeting on September 12\, 2025. \nWe will be having the election for the officers. \nLink to Meeting Notice
URL:https://riaao.org/event/riaao-annual-meeting/
LOCATION:Valley Country Club\, 251 New London Ave\, Warwick\, RI\, 02886\, United States
CATEGORIES:Events
ATTACH;FMTTYPE=image/png:https://riaao.org/wp-content/uploads/2024/03/riaao4.png
ORGANIZER;CN="RIAAO":MAILTO:dcarey@westerlyri.gov
END:VEVENT
END:VCALENDAR