BEGIN:VCALENDAR
VERSION:2.0
PRODID:-//RIAAO - ECPv6.3.3.1//NONSGML v1.0//EN
CALSCALE:GREGORIAN
METHOD:PUBLISH
X-ORIGINAL-URL:https://riaao.org
X-WR-CALDESC:Events for RIAAO
REFRESH-INTERVAL;VALUE=DURATION:PT1H
X-Robots-Tag:noindex
X-PUBLISHED-TTL:PT1H
BEGIN:VTIMEZONE
TZID:America/New_York
BEGIN:DAYLIGHT
TZOFFSETFROM:-0500
TZOFFSETTO:-0400
TZNAME:EDT
DTSTART:20250309T070000
END:DAYLIGHT
BEGIN:STANDARD
TZOFFSETFROM:-0400
TZOFFSETTO:-0500
TZNAME:EST
DTSTART:20251102T060000
END:STANDARD
END:VTIMEZONE
BEGIN:VEVENT
DTSTART;TZID=America/New_York:20251205T083000
DTEND;TZID=America/New_York:20251205T130000
DTSTAMP:20260421T142540
CREATED:20251104T225005Z
LAST-MODIFIED:20260302T153009Z
UID:4326-1764923400-1764939600@riaao.org
SUMMARY:RIAAO December Meeting
DESCRIPTION:The RIAAO December Meeting will be held at the Valley Country Club in Warwick. \nThe Charity for 2025 is The Arthritis Foundation\, please bring a check if you would like to donate. \nProposals on the 2025 meeting schedule options will be presented to the body for a vote. \nLink to registration form.  \nPlease note\, we have a new treasurer and the mailing address has changed. \nPlease be sure to RSVP by November 20\, 2025. \nWe look forward to seeing everyone at the meeting!
URL:https://riaao.org/event/riaao-december-meeting-2/
LOCATION:Valley Country Club\, 251 New London Ave\, Warwick\, RI\, 02886\, United States
CATEGORIES:Events
ATTACH;FMTTYPE=image/png:https://riaao.org/wp-content/uploads/2025/11/RIAAO_logo_2025.png
ORGANIZER;CN="RIAAO":MAILTO:dcarey@westerlyri.gov
END:VEVENT
END:VCALENDAR